BEGIN:VCALENDAR
VERSION:2.0
PRODID:-//Project Salaam Mechelen - ECPv6.15.18//NONSGML v1.0//EN
CALSCALE:GREGORIAN
METHOD:PUBLISH
X-WR-CALNAME:Project Salaam Mechelen
X-ORIGINAL-URL:https://salaam-mechelen.be
X-WR-CALDESC:Events voor Project Salaam Mechelen
REFRESH-INTERVAL;VALUE=DURATION:PT1H
X-Robots-Tag:noindex
X-PUBLISHED-TTL:PT1H
BEGIN:VTIMEZONE
TZID:Europe/Brussels
BEGIN:DAYLIGHT
TZOFFSETFROM:+0100
TZOFFSETTO:+0200
TZNAME:CEST
DTSTART:20250330T010000
END:DAYLIGHT
BEGIN:STANDARD
TZOFFSETFROM:+0200
TZOFFSETTO:+0100
TZNAME:CET
DTSTART:20251026T010000
END:STANDARD
BEGIN:DAYLIGHT
TZOFFSETFROM:+0100
TZOFFSETTO:+0200
TZNAME:CEST
DTSTART:20260329T010000
END:DAYLIGHT
BEGIN:STANDARD
TZOFFSETFROM:+0200
TZOFFSETTO:+0100
TZNAME:CET
DTSTART:20261025T010000
END:STANDARD
BEGIN:DAYLIGHT
TZOFFSETFROM:+0100
TZOFFSETTO:+0200
TZNAME:CEST
DTSTART:20270328T010000
END:DAYLIGHT
BEGIN:STANDARD
TZOFFSETFROM:+0200
TZOFFSETTO:+0100
TZNAME:CET
DTSTART:20271031T010000
END:STANDARD
END:VTIMEZONE
BEGIN:VEVENT
DTSTART;TZID=Europe/Brussels:20260426T160000
DTEND;TZID=Europe/Brussels:20260426T170000
DTSTAMP:20260424T191632
CREATED:20250805T204756Z
LAST-MODIFIED:20250805T204756Z
UID:2424-1777219200-1777222800@salaam-mechelen.be
SUMMARY:Training Salaam Academie 1
DESCRIPTION:Training voor de Academie 1 ploeg van Salaam Mechelen.
URL:https://salaam-mechelen.be/evenement/training-salaam-academie-1-33/
LOCATION:Sporthal De Plaon\, Eksterstraat 100\, Mechelen\, Antwerpen\, 2800\, Belgium
CATEGORIES:Zaalvoetbal
END:VEVENT
BEGIN:VEVENT
DTSTART;TZID=Europe/Brussels:20260426T170000
DTEND;TZID=Europe/Brussels:20260426T180000
DTSTAMP:20260424T191632
CREATED:20250805T205000Z
LAST-MODIFIED:20250805T205000Z
UID:2458-1777222800-1777226400@salaam-mechelen.be
SUMMARY:Training Salaam Academie 2
DESCRIPTION:Training voor de Academie 2 ploeg van Salaam Mechelen.
URL:https://salaam-mechelen.be/evenement/training-salaam-academie-2-33/
LOCATION:Sporthal De Plaon\, Eksterstraat 100\, Mechelen\, Antwerpen\, 2800\, Belgium
CATEGORIES:Zaalvoetbal
END:VEVENT
BEGIN:VEVENT
DTSTART;TZID=Europe/Brussels:20260426T180000
DTEND;TZID=Europe/Brussels:20260426T190000
DTSTAMP:20260424T191632
CREATED:20250805T205355Z
LAST-MODIFIED:20250805T205355Z
UID:2495-1777226400-1777230000@salaam-mechelen.be
SUMMARY:Training Salaam U15
DESCRIPTION:Training voor U15 ploeg van Salaam Mechelen.
URL:https://salaam-mechelen.be/evenement/training-salaam-u15-33/
LOCATION:Sporthal De Plaon\, Eksterstraat 100\, Mechelen\, Antwerpen\, 2800\, Belgium
CATEGORIES:Zaalvoetbal
END:VEVENT
BEGIN:VEVENT
DTSTART;TZID=Europe/Brussels:20260426T190000
DTEND;TZID=Europe/Brussels:20260426T200000
DTSTAMP:20260424T191632
CREATED:20250805T205712Z
LAST-MODIFIED:20250805T205712Z
UID:2529-1777230000-1777233600@salaam-mechelen.be
SUMMARY:Training Salaam U17
DESCRIPTION:Training voor de U17 ploeg van Salaam Mechelen.
URL:https://salaam-mechelen.be/evenement/training-salaam-u17-33/
LOCATION:Sporthal De Plaon\, Eksterstraat 100\, Mechelen\, Antwerpen\, 2800\, Belgium
CATEGORIES:Zaalvoetbal
END:VEVENT
BEGIN:VEVENT
DTSTART;TZID=Europe/Brussels:20260426T200000
DTEND;TZID=Europe/Brussels:20260426T210000
DTSTAMP:20260424T191632
CREATED:20250805T204325Z
LAST-MODIFIED:20250805T204325Z
UID:2390-1777233600-1777237200@salaam-mechelen.be
SUMMARY:Training Salaam Veteranen
DESCRIPTION:Training voor de veteranen van Salaam Mechelen.
URL:https://salaam-mechelen.be/evenement/training-salaam-veteranen-33/
LOCATION:Sporthal De Plaon\, Eksterstraat 100\, Mechelen\, Antwerpen\, 2800\, Belgium
CATEGORIES:Zaalvoetbal
END:VEVENT
BEGIN:VEVENT
DTSTART;TZID=Europe/Brussels:20260429T190000
DTEND;TZID=Europe/Brussels:20260429T210000
DTSTAMP:20260424T191632
CREATED:20250901T212831Z
LAST-MODIFIED:20250901T212831Z
UID:2796-1777489200-1777496400@salaam-mechelen.be
SUMMARY:Training Salaam A (1ste ploeg) & B (Beloften)
DESCRIPTION:Training voor de eerste ploeg en beloften van Salaam Mechelen.
URL:https://salaam-mechelen.be/evenement/training-salaam-a-1ste-ploeg-b-beloften-35/
LOCATION:Sporthal De Plaon\, Eksterstraat 100\, Mechelen\, Antwerpen\, 2800\, Belgium
CATEGORIES:Zaalvoetbal
END:VEVENT
END:VCALENDAR